BEGIN:VCALENDAR
VERSION:2.0
PRODID:-//Stillwater Public Library - ECPv6.15.17.1//NONSGML v1.0//EN
CALSCALE:GREGORIAN
METHOD:PUBLISH
X-WR-CALNAME:Stillwater Public Library
X-ORIGINAL-URL:https://library.stillwatermn.gov
X-WR-CALDESC:Events for Stillwater Public Library
REFRESH-INTERVAL;VALUE=DURATION:PT1H
X-Robots-Tag:noindex
X-PUBLISHED-TTL:PT1H
BEGIN:VTIMEZONE
TZID:America/Chicago
BEGIN:DAYLIGHT
TZOFFSETFROM:-0600
TZOFFSETTO:-0500
TZNAME:CDT
DTSTART:20250309T080000
END:DAYLIGHT
BEGIN:STANDARD
TZOFFSETFROM:-0500
TZOFFSETTO:-0600
TZNAME:CST
DTSTART:20251102T070000
END:STANDARD
BEGIN:DAYLIGHT
TZOFFSETFROM:-0600
TZOFFSETTO:-0500
TZNAME:CDT
DTSTART:20260308T080000
END:DAYLIGHT
BEGIN:STANDARD
TZOFFSETFROM:-0500
TZOFFSETTO:-0600
TZNAME:CST
DTSTART:20261101T070000
END:STANDARD
BEGIN:DAYLIGHT
TZOFFSETFROM:-0600
TZOFFSETTO:-0500
TZNAME:CDT
DTSTART:20270314T080000
END:DAYLIGHT
BEGIN:STANDARD
TZOFFSETFROM:-0500
TZOFFSETTO:-0600
TZNAME:CST
DTSTART:20271107T070000
END:STANDARD
END:VTIMEZONE
BEGIN:VEVENT
DTSTART;VALUE=DATE:20260323
DTEND;VALUE=DATE:20260601
DTSTAMP:20260421T191143
CREATED:20250822T135621Z
LAST-MODIFIED:20260323T155839Z
UID:26529-1774224000-1780271999@library.stillwatermn.gov
SUMMARY:View the Spring ShelfLife Catalog
DESCRIPTION:
URL:https://library.stillwatermn.gov/event/view-the-shelflife-catalog/
LOCATION:Stillwater Public Library
CATEGORIES:Adults,Children,Friends Event,Storytimes,Teen
ATTACH;FMTTYPE=image/jpeg:https://library.stillwatermn.gov/wp-content/uploads/2025/08/Spring-Catalog-2026.jpg
END:VEVENT
BEGIN:VEVENT
DTSTART;VALUE=DATE:20260422
DTEND;VALUE=DATE:20260426
DTSTAMP:20260421T191143
CREATED:20240304T144945Z
LAST-MODIFIED:20260116T204946Z
UID:23438-1776816000-1777161599@library.stillwatermn.gov
SUMMARY:Friends Spring Used Book Sale (Click for times)
DESCRIPTION:
URL:https://library.stillwatermn.gov/event/friends-spring-used-book-sale-5/
LOCATION:Stillwater Public Library
CATEGORIES:Adults,Children,Friends Event,Teen
ATTACH;FMTTYPE=image/jpeg:https://library.stillwatermn.gov/wp-content/uploads/2024/03/April-24-27.jpg
END:VEVENT
BEGIN:VEVENT
DTSTART;TZID=America/Chicago:20260425T103000
DTEND;TZID=America/Chicago:20260425T120000
DTSTAMP:20260421T191143
CREATED:20250303T160344Z
LAST-MODIFIED:20260330T180901Z
UID:25521-1777113000-1777118400@library.stillwatermn.gov
SUMMARY:World Tai Chi Day
DESCRIPTION:
URL:https://library.stillwatermn.gov/event/world-tai-chi-day/
LOCATION:Stillwater Public Library
CATEGORIES:Adults,Children,Teen
ATTACH;FMTTYPE=image/jpeg:https://library.stillwatermn.gov/wp-content/uploads/2025/03/04-25-World-Tai-Chi-Day.jpg
END:VEVENT
BEGIN:VEVENT
DTSTART;TZID=America/Chicago:20260502T150000
DTEND;TZID=America/Chicago:20260502T160000
DTSTAMP:20260421T191143
CREATED:20260330T200406Z
LAST-MODIFIED:20260330T200406Z
UID:27469-1777734000-1777737600@library.stillwatermn.gov
SUMMARY:Book Launch: Overburden by Jolene Brink
DESCRIPTION:
URL:https://library.stillwatermn.gov/event/book-launch-overburden-by-jolene-brink/
LOCATION:Stillwater Public Library
CATEGORIES:Adults
ATTACH;FMTTYPE=image/jpeg:https://library.stillwatermn.gov/wp-content/uploads/2026/03/05-02-Overburden.jpg
END:VEVENT
BEGIN:VEVENT
DTSTART;TZID=America/Chicago:20260504T173000
DTEND;TZID=America/Chicago:20260504T193000
DTSTAMP:20260421T191143
CREATED:20260330T200545Z
LAST-MODIFIED:20260330T200545Z
UID:27471-1777915800-1777923000@library.stillwatermn.gov
SUMMARY:Vivid Vases with ArtStart
DESCRIPTION:
URL:https://library.stillwatermn.gov/event/vivid-vases-with-artstart/
LOCATION:Stillwater Public Library
CATEGORIES:Adults
ATTACH;FMTTYPE=image/jpeg:https://library.stillwatermn.gov/wp-content/uploads/2026/03/05-04-Vivid-Vases.jpg
END:VEVENT
BEGIN:VEVENT
DTSTART;TZID=America/Chicago:20260507T183000
DTEND;TZID=America/Chicago:20260507T193000
DTSTAMP:20260421T191143
CREATED:20260330T200737Z
LAST-MODIFIED:20260330T200737Z
UID:27473-1778178600-1778182200@library.stillwatermn.gov
SUMMARY:Exploring the Arts: Animation in Classic Hollywood
DESCRIPTION:
URL:https://library.stillwatermn.gov/event/exploring-the-arts-animation-in-classic-hollywood/
LOCATION:Stillwater Public Library
CATEGORIES:Adults
ATTACH;FMTTYPE=image/jpeg:https://library.stillwatermn.gov/wp-content/uploads/2026/03/05-07-Exploring-the-Arts.jpg
END:VEVENT
BEGIN:VEVENT
DTSTART;TZID=America/Chicago:20260514T130000
DTEND;TZID=America/Chicago:20260514T150000
DTSTAMP:20260421T191143
CREATED:20240415T140211Z
LAST-MODIFIED:20260330T200824Z
UID:23666-1778763600-1778770800@library.stillwatermn.gov
SUMMARY:Introduction to Norwegian Genealogy
DESCRIPTION:
URL:https://library.stillwatermn.gov/event/introduction-to-norwegian-genealogy/
LOCATION:Stillwater Public Library
CATEGORIES:Adults
ATTACH;FMTTYPE=image/jpeg:https://library.stillwatermn.gov/wp-content/uploads/2024/03/May-7-Norwegian-Genealogy.jpg
END:VEVENT
BEGIN:VEVENT
DTSTART;TZID=America/Chicago:20260516T100000
DTEND;TZID=America/Chicago:20260516T140000
DTSTAMP:20260421T191143
CREATED:20220915T192732Z
LAST-MODIFIED:20260330T201133Z
UID:20006-1778925600-1778940000@library.stillwatermn.gov
SUMMARY:Scan for Keeps
DESCRIPTION:
URL:https://library.stillwatermn.gov/event/scan-for-keeps/
LOCATION:Stillwater Public Library
CATEGORIES:Adults
ATTACH;FMTTYPE=image/jpeg:https://library.stillwatermn.gov/wp-content/uploads/2026/03/05-16-Scan-for-Keeps.jpg
END:VEVENT
BEGIN:VEVENT
DTSTART;TZID=America/Chicago:20260518T183000
DTEND;TZID=America/Chicago:20260518T193000
DTSTAMP:20260421T191143
CREATED:20260330T202504Z
LAST-MODIFIED:20260330T202504Z
UID:27477-1779129000-1779132600@library.stillwatermn.gov
SUMMARY:Music of Route 66
DESCRIPTION:
URL:https://library.stillwatermn.gov/event/music-of-route-66/
LOCATION:Stillwater Public Library
CATEGORIES:Adults
ATTACH;FMTTYPE=image/jpeg:https://library.stillwatermn.gov/wp-content/uploads/2026/03/05-18-Music-of-Route-66.jpg
END:VEVENT
BEGIN:VEVENT
DTSTART;TZID=America/Chicago:20260519T183000
DTEND;TZID=America/Chicago:20260519T193000
DTSTAMP:20260421T191143
CREATED:20260330T202644Z
LAST-MODIFIED:20260330T202644Z
UID:27479-1779215400-1779219000@library.stillwatermn.gov
SUMMARY:Detour Minnesota
DESCRIPTION:
URL:https://library.stillwatermn.gov/event/detour-minnesota/
LOCATION:Stillwater Public Library
CATEGORIES:Adults
ATTACH;FMTTYPE=image/jpeg:https://library.stillwatermn.gov/wp-content/uploads/2026/03/05-19-Detour-MN.jpg
END:VEVENT
BEGIN:VEVENT
DTSTART;TZID=America/Chicago:20260521T183000
DTEND;TZID=America/Chicago:20260521T190000
DTSTAMP:20260421T191143
CREATED:20260330T202853Z
LAST-MODIFIED:20260330T202853Z
UID:27481-1779388200-1779390000@library.stillwatermn.gov
SUMMARY:Intro to Stillwater Historic Building Research
DESCRIPTION:
URL:https://library.stillwatermn.gov/event/intro-to-stillwater-historic-building-research/
LOCATION:Stillwater Public Library
CATEGORIES:Adults
ATTACH;FMTTYPE=image/jpeg:https://library.stillwatermn.gov/wp-content/uploads/2026/03/05-21-Historic-Bldg.jpg
END:VEVENT
BEGIN:VEVENT
DTSTART;VALUE=DATE:20260524
DTEND;VALUE=DATE:20260526
DTSTAMP:20260421T191143
CREATED:20240201T210038Z
LAST-MODIFIED:20260330T202958Z
UID:23226-1779580800-1779753599@library.stillwatermn.gov
SUMMARY:Library is Closed (May 24 & 25)
DESCRIPTION:
URL:https://library.stillwatermn.gov/event/library-is-closed/
CATEGORIES:Adults,Children,Friends Event,Storytimes,Teen
ATTACH;FMTTYPE=image/jpeg:https://library.stillwatermn.gov/wp-content/uploads/2023/10/Library-building-is-closed.jpg
END:VEVENT
END:VCALENDAR